BEGIN:VCALENDAR
VERSION:2.0
PRODID:-//ChamberMaster//Event Calendar 2.0//EN
METHOD:PUBLISH
X-PUBLISHED-TTL:P3D
REFRESH-INTERVAL:P3D
CALSCALE:GREGORIAN
BEGIN:VEVENT
DTSTART:20261008T133000Z
DTEND:20261008T200000Z
X-MICROSOFT-CDO-ALLDAYEVENT:FALSE
SUMMARY:West Side Golf Open 2026
DESCRIPTION:Join the Des Moines West Side Chamber for networking\, best ball golf\, course games\, beat the pro challenges\, food\, and prizes at the historic Waveland Golf Course!\n\n \n\n1) Foursome $300\n\n- A reservation for 4 golfers to network and play as a team in the open.\n\n2) Hole Sponsor $300\n\n- Pitch a table and a tent next to your sponsorship sign at one of the 18 holes and interact with golfers as they pass through.  Offer marketing materials\, games\, treats etc. Make it fun!\n\n3) Foursome & Hole Sponsor $500\n\n- A combo deal for both options above.  If you're unable to staff the hole\, just let your sponsorship sign do the work.\n\n\n\nTo register individually ($75 per golfer)\, please email name and company to director@dsmwestside.org. \n\n \n\nFor additional sponsorship opportunities\, contact Traci Klein.\n\n \n\nTraci Klein - Membership Engagement Coordinator\n\nmembership@dsmwestside.org
X-ALT-DESC;FMTTYPE=text/html:<div class="x_gmail_default" color:="" font-feature-settings:="" font-kerning:="" font-optical-sizing:="" font-size-adjust:="" font-variation-settings:="" helvetica="" margin:="" padding:="" segoe="" style="border: 0px\; font-variant-numeric: inherit\; font-variant-east-asian: inherit\; font-variant-alternates: inherit\; font-variant-position: inherit\; font-variant-emoji: inherit\; font-stretch: inherit\; font-size: 15px\; line-height: inherit\; font-family: " ui="" vertical-align:="" web="" west="">\n<div class="x_gmail_default" color:="" font-feature-settings:="" font-kerning:="" font-language-override:="" font-optical-sizing:="" font-size-adjust:="" font-variation-settings:="" helvetica="" margin:="" padding:="" segoe="" style="border: 0px\; font-variant-numeric: inherit\; font-variant-east-asian: inherit\; font-variant-alternates: inherit\; font-variant-position: inherit\; font-variant-emoji: inherit\; font-stretch: inherit\; font-size: small\; line-height: inherit\; font-family: " ui="" vertical-align:="" web="" west=""><span data-olk-copy-source="MessageBody" style="border: 0px\; font-style: inherit\; font-variant: inherit\; font-weight: inherit\; font-stretch: inherit\; font-size: 15px\; line-height: inherit\; font-family: Raleway\, sans-serif\; font-optical-sizing: inherit\; font-size-adjust: inherit\; font-kerning: inherit\; font-feature-settings: inherit\; font-variation-settings: inherit\; font-language-override: inherit\; margin: 0px\; padding: 0px\; vertical-align: baseline\; color: rgb(68\, 68\, 68)\;">Join the Des Moines West Side Chamber for networking\, best ball golf\,&nbsp\;</span><span style="border: 0px\; font-style: inherit\; font-variant: inherit\; font-weight: inherit\; font-stretch: inherit\; font-size: 15px\; line-height: inherit\; font-family: Raleway\, sans-serif\; font-optical-sizing: inherit\; font-size-adjust: inherit\; font-kerning: inherit\; font-feature-settings: inherit\; font-variation-settings: inherit\; font-language-override: inherit\; margin: 0px\; padding: 0px\; vertical-align: baseline\;">course</span><span style="border: 0px\; font-style: inherit\; font-variant: inherit\; font-weight: inherit\; font-stretch: inherit\; font-size: 15px\; line-height: inherit\; font-family: Raleway\, sans-serif\; font-optical-sizing: inherit\; font-size-adjust: inherit\; font-kerning: inherit\; font-feature-settings: inherit\; font-variation-settings: inherit\; font-language-override: inherit\; margin: 0px\; padding: 0px\; vertical-align: baseline\; color: rgb(68\, 68\, 68)\;">&nbsp\;games\,&nbsp\;</span><span style="border: 0px\; font-style: inherit\; font-variant: inherit\; font-weight: inherit\; font-stretch: inherit\; font-size: 15px\; line-height: inherit\; font-family: Raleway\, sans-serif\; font-optical-sizing: inherit\; font-size-adjust: inherit\; font-kerning: inherit\; font-feature-settings: inherit\; font-variation-settings: inherit\; font-language-override: inherit\; margin: 0px\; padding: 0px\; vertical-align: baseline\;">beat the pro challenges</span><span style="border: 0px\; font-style: inherit\; font-variant: inherit\; font-weight: inherit\; font-stretch: inherit\; font-size: 15px\; line-height: inherit\; font-family: Raleway\, sans-serif\; font-optical-sizing: inherit\; font-size-adjust: inherit\; font-kerning: inherit\; font-feature-settings: inherit\; font-variation-settings: inherit\; font-language-override: inherit\; margin: 0px\; padding: 0px\; vertical-align: baseline\; color: rgb(68\, 68\, 68)\;">\, food\, and prizes at the historic Waveland Golf Course!</span></div>\n\n<div class="x_gmail_default" color:="" font-feature-settings:="" font-kerning:="" font-language-override:="" font-optical-sizing:="" font-size-adjust:="" font-variation-settings:="" helvetica="" margin:="" padding:="" segoe="" style="border: 0px\; font-variant-numeric: inherit\; font-variant-east-asian: inherit\; font-variant-alternates: inherit\; font-variant-position: inherit\; font-variant-emoji: inherit\; font-stretch: inherit\; font-size: small\; line-height: inherit\; font-family: " ui="" vertical-align:="" web="" west="">&nbsp\;</div>\n\n<div class="x_gmail_default" color:="" font-feature-settings:="" font-kerning:="" font-language-override:="" font-optical-sizing:="" font-size-adjust:="" font-variation-settings:="" helvetica="" margin:="" padding:="" segoe="" style="border: 0px\; font-variant-numeric: inherit\; font-variant-east-asian: inherit\; font-variant-alternates: inherit\; font-variant-position: inherit\; font-variant-emoji: inherit\; font-stretch: inherit\; font-size: small\; line-height: inherit\; font-family: " ui="" vertical-align:="" web="" west=""><span style="border: 0px\; font-style: inherit\; font-variant: inherit\; font-weight: bolder\; font-stretch: inherit\; font-size: 15px\; line-height: inherit\; font-family: Raleway\, sans-serif\; font-optical-sizing: inherit\; font-size-adjust: inherit\; font-kerning: inherit\; font-feature-settings: inherit\; font-variation-settings: inherit\; font-language-override: inherit\; margin: 0px\; padding: 0px\; vertical-align: baseline\; box-sizing: border-box\;">1) Foursome $300</span><br style="box-sizing: border-box\; color: rgb(68\, 68\, 68)\; font-family: Raleway\, sans-serif\; font-size: 15px\; background-color: rgb(243\, 243\, 243)\;" />\n<span style="border: 0px\; font-style: inherit\; font-variant: inherit\; font-weight: inherit\; font-stretch: inherit\; font-size: 15px\; line-height: inherit\; font-family: Raleway\, sans-serif\; font-optical-sizing: inherit\; font-size-adjust: inherit\; font-kerning: inherit\; font-feature-settings: inherit\; font-variation-settings: inherit\; font-language-override: inherit\; margin: 0px\; padding: 0px\; vertical-align: baseline\;">- A reservation for 4 golfers&nbsp\;</span><span style="border: 0px\; font-style: inherit\; font-variant: inherit\; font-weight: inherit\; font-stretch: inherit\; font-size: 15px\; line-height: inherit\; font-family: Raleway\, sans-serif\; font-optical-sizing: inherit\; font-size-adjust: inherit\; font-kerning: inherit\; font-feature-settings: inherit\; font-variation-settings: inherit\; font-language-override: inherit\; margin: 0px\; padding: 0px\; vertical-align: baseline\;">to network and</span><span style="border: 0px\; font-style: inherit\; font-variant: inherit\; font-weight: inherit\; font-stretch: inherit\; font-size: 15px\; line-height: inherit\; font-family: Raleway\, sans-serif\; font-optical-sizing: inherit\; font-size-adjust: inherit\; font-kerning: inherit\; font-feature-settings: inherit\; font-variation-settings: inherit\; font-language-override: inherit\; margin: 0px\; padding: 0px\; vertical-align: baseline\;">&nbsp\;play as a team in the open.</span><br style="box-sizing: border-box\; color: rgb(68\, 68\, 68)\; font-family: Raleway\, sans-serif\; font-size: 15px\; background-color: rgb(243\, 243\, 243)\;" />\n<span style="border: 0px\; font-style: inherit\; font-variant: inherit\; font-weight: bolder\; font-stretch: inherit\; font-size: 15px\; line-height: inherit\; font-family: Raleway\, sans-serif\; font-optical-sizing: inherit\; font-size-adjust: inherit\; font-kerning: inherit\; font-feature-settings: inherit\; font-variation-settings: inherit\; font-language-override: inherit\; margin: 0px\; padding: 0px\; vertical-align: baseline\; box-sizing: border-box\;">2) Hole Sponsor $300</span><br style="box-sizing: border-box\; color: rgb(68\, 68\, 68)\; font-family: Raleway\, sans-serif\; font-size: 15px\; background-color: rgb(243\, 243\, 243)\;" />\n<span style="border: 0px\; font-style: inherit\; font-variant: inherit\; font-weight: inherit\; font-stretch: inherit\; font-size: 15px\; line-height: inherit\; font-family: Raleway\, sans-serif\; font-optical-sizing: inherit\; font-size-adjust: inherit\; font-kerning: inherit\; font-feature-settings: inherit\; font-variation-settings: inherit\; font-language-override: inherit\; margin: 0px\; padding: 0px\; vertical-align: baseline\;">- Pitch a&nbsp\;</span><span style="border: 0px\; font-style: inherit\; font-variant: inherit\; font-weight: inherit\; font-stretch: inherit\; font-size: 15px\; line-height: inherit\; font-family: Raleway\, sans-serif\; font-optical-sizing: inherit\; font-size-adjust: inherit\; font-kerning: inherit\; font-feature-settings: inherit\; font-variation-settings: inherit\; font-language-override: inherit\; margin: 0px\; padding: 0px\; vertical-align: baseline\;">table and a&nbsp\;</span><span style="border: 0px\; font-style: inherit\; font-variant: inherit\; font-weight: inherit\; font-stretch: inherit\; font-size: 15px\; line-height: inherit\; font-family: Raleway\, sans-serif\; font-optical-sizing: inherit\; font-size-adjust: inherit\; font-kerning: inherit\; font-feature-settings: inherit\; font-variation-settings: inherit\; font-language-override: inherit\; margin: 0px\; padding: 0px\; vertical-align: baseline\;">tent next to your sponsorship sign at one of the 18 holes and interact with golfers as they pass through.&nbsp\;</span><span style="border: 0px\; font-style: inherit\; font-variant: inherit\; font-weight: inherit\; font-stretch: inherit\; font-size: 15px\; line-height: inherit\; font-family: Raleway\, sans-serif\; font-optical-sizing: inherit\; font-size-adjust: inherit\; font-kerning: inherit\; font-feature-settings: inherit\; font-variation-settings: inherit\; font-language-override: inherit\; margin: 0px\; padding: 0px\; vertical-align: baseline\;">&nbsp\;</span><span id="x_m_4226945791645098516m_-1929858491015182257m_1338188812475894317m_6998312049519579707gmail-docs-internal-guid-6624a126-7fff-ee1b-1538-d23e67be32ce" style="border: 0px\; font: inherit\; margin: 0px\; padding: 0px\; vertical-align: baseline\;"><span style="border: 0px\; font-style: inherit\; font-variant-ligatures: inherit\; font-variant-caps: inherit\; font-variant-numeric: normal\; font-variant-east-asian: normal\; font-variant-alternates: normal\; font-variant-position: inherit\; font-variant-emoji: inherit\; font-weight: inherit\; font-stretch: inherit\; font-size: 10.5pt\; line-height: inherit\; font-family: Arial\, sans-serif\; font-optical-sizing: inherit\; font-size-adjust: inherit\; font-kerning: inherit\; font-feature-settings: inherit\; font-variation-settings: inherit\; font-language-override: inherit\; margin: 0px\; padding: 0px\; vertical-align: baseline\;">Offer marketing materials\, games\, treats etc. Make it fun!</span></span><br style="box-sizing: border-box\; color: rgb(68\, 68\, 68)\; font-family: Raleway\, sans-serif\; font-size: 15px\; background-color: rgb(243\, 243\, 243)\;" />\n<span style="border: 0px\; font-style: inherit\; font-variant: inherit\; font-weight: bolder\; font-stretch: inherit\; font-size: 15px\; line-height: inherit\; font-family: Raleway\, sans-serif\; font-optical-sizing: inherit\; font-size-adjust: inherit\; font-kerning: inherit\; font-feature-settings: inherit\; font-variation-settings: inherit\; font-language-override: inherit\; margin: 0px\; padding: 0px\; vertical-align: baseline\; box-sizing: border-box\;">3) Foursome &amp\; Hole Sponsor $500</span><br style="box-sizing: border-box\; color: rgb(68\, 68\, 68)\; font-family: Raleway\, sans-serif\; font-size: 15px\; background-color: rgb(243\, 243\, 243)\;" />\n<span style="border: 0px\; font-style: inherit\; font-variant: inherit\; font-weight: inherit\; font-stretch: inherit\; font-size: 15px\; line-height: inherit\; font-family: Raleway\, sans-serif\; font-optical-sizing: inherit\; font-size-adjust: inherit\; font-kerning: inherit\; font-feature-settings: inherit\; font-variation-settings: inherit\; font-language-override: inherit\; margin: 0px\; padding: 0px\; vertical-align: baseline\;">- A combo deal for both options above.&nbsp\; If you&#39\;re unable to staff the hole\, just let your sponsorship sign do the work.</span><br style="box-sizing: border-box\; font-family: Raleway\, sans-serif\; font-size: 15px\; background-color: rgb(243\, 243\, 243)\;" />\n<br style="box-sizing: border-box\; color: rgb(68\, 68\, 68)\; font-family: Raleway\, sans-serif\; font-size: 15px\; background-color: rgb(243\, 243\, 243)\;" />\n<span style="border: 0px\; font-style: inherit\; font-variant: inherit\; font-weight: inherit\; font-stretch: inherit\; font-size: 15px\; line-height: inherit\; font-family: Raleway\, sans-serif\; font-optical-sizing: inherit\; font-size-adjust: inherit\; font-kerning: inherit\; font-feature-settings: inherit\; font-variation-settings: inherit\; font-language-override: inherit\; margin: 0px\; padding: 0px\; vertical-align: baseline\; color: rgb(68\, 68\, 68)\;">To register individually ($75 per golfer)\, please email name and company to&nbsp\;<a data-linkindex="1" href="mailto:director@dsmwestside.org" style="border: 0px\; font: inherit\; margin: 0px\; padding: 0px\; vertical-align: baseline\;" title="mailto:director@dsmwestside.org">director@dsmwestside.org</a>.&nbsp\;</span></div>\n\n<div class="x_gmail_default" color:="" font-feature-settings:="" font-kerning:="" font-language-override:="" font-optical-sizing:="" font-size-adjust:="" font-variation-settings:="" helvetica="" margin:="" padding:="" segoe="" style="border: 0px\; font-variant-numeric: inherit\; font-variant-east-asian: inherit\; font-variant-alternates: inherit\; font-variant-position: inherit\; font-variant-emoji: inherit\; font-stretch: inherit\; font-size: small\; line-height: inherit\; font-family: " ui="" vertical-align:="" web="" west="">&nbsp\;</div>\n\n<div class="x_gmail_default" color:="" font-feature-settings:="" font-kerning:="" font-language-override:="" font-optical-sizing:="" font-size-adjust:="" font-variation-settings:="" helvetica="" margin:="" padding:="" segoe="" style="border: 0px\; font-variant-numeric: inherit\; font-variant-east-asian: inherit\; font-variant-alternates: inherit\; font-variant-position: inherit\; font-variant-emoji: inherit\; font-stretch: inherit\; font-size: small\; line-height: inherit\; font-family: " ui="" vertical-align:="" web="" west=""><span style="border: 0px\; font-style: inherit\; font-variant: inherit\; font-weight: inherit\; font-stretch: inherit\; font-size: 15px\; line-height: inherit\; font-family: Raleway\, sans-serif\; font-optical-sizing: inherit\; font-size-adjust: inherit\; font-kerning: inherit\; font-feature-settings: inherit\; font-variation-settings: inherit\; font-language-override: inherit\; margin: 0px\; padding: 0px\; vertical-align: baseline\;">For a</span><span style="border: 0px\; font-style: inherit\; font-variant: inherit\; font-weight: inherit\; font-stretch: inherit\; font-size: 15px\; line-height: inherit\; font-family: Raleway\, sans-serif\; font-optical-sizing: inherit\; font-size-adjust: inherit\; font-kerning: inherit\; font-feature-settings: inherit\; font-variation-settings: inherit\; font-language-override: inherit\; margin: 0px\; padding: 0px\; vertical-align: baseline\;">dditional</span><span style="border: 0px\; font-style: inherit\; font-variant: inherit\; font-weight: inherit\; font-stretch: inherit\; font-size: 15px\; line-height: inherit\; font-family: Raleway\, sans-serif\; font-optical-sizing: inherit\; font-size-adjust: inherit\; font-kerning: inherit\; font-feature-settings: inherit\; font-variation-settings: inherit\; font-language-override: inherit\; margin: 0px\; padding: 0px\; vertical-align: baseline\; color: rgb(255\, 0\, 0)\;">&nbsp\;<a data-auth="NotApplicable" data-linkindex="2" href="https://www.dsmwestside.org/assets/pdf/Golf+Open+Sponsorships/" id="anchor-472a2851-7114-283c-bd05-4b95b8c27050" rel="noopener noreferrer" style="border: 0px\; font: inherit\; margin: 0px\; padding: 0px\; vertical-align: baseline\;" target="_blank" title="https://www.dsmwestside.org/assets/pdf/Golf+Open+Sponsorships/">sponsorship opportunities</a></span><span style="border: 0px\; font-style: inherit\; font-variant: inherit\; font-weight: inherit\; font-stretch: inherit\; font-size: 15px\; line-height: inherit\; font-family: Raleway\, sans-serif\; font-optical-sizing: inherit\; font-size-adjust: inherit\; font-kerning: inherit\; font-feature-settings: inherit\; font-variation-settings: inherit\; font-language-override: inherit\; margin: 0px\; padding: 0px\; vertical-align: baseline\;">\, contact Traci Klein.</span></div>\n\n<div class="x_gmail_default" color:="" font-feature-settings:="" font-kerning:="" font-language-override:="" font-optical-sizing:="" font-size-adjust:="" font-variation-settings:="" helvetica="" margin:="" padding:="" segoe="" style="border: 0px\; font-variant-numeric: inherit\; font-variant-east-asian: inherit\; font-variant-alternates: inherit\; font-variant-position: inherit\; font-variant-emoji: inherit\; font-stretch: inherit\; font-size: small\; line-height: inherit\; font-family: " ui="" vertical-align:="" web="" west="">&nbsp\;</div>\n\n<div class="x_gmail_default" color:="" font-feature-settings:="" font-kerning:="" font-language-override:="" font-optical-sizing:="" font-size-adjust:="" font-variation-settings:="" helvetica="" margin:="" padding:="" segoe="" style="border: 0px\; font-variant-numeric: inherit\; font-variant-east-asian: inherit\; font-variant-alternates: inherit\; font-variant-position: inherit\; font-variant-emoji: inherit\; font-stretch: inherit\; font-size: small\; line-height: inherit\; font-family: " ui="" vertical-align:="" web="" west=""><span style="border: 0px\; font-style: inherit\; font-variant: inherit\; font-weight: inherit\; font-stretch: inherit\; font-size: 16px\; line-height: inherit\; font-family: Raleway\, sans-serif\; font-optical-sizing: inherit\; font-size-adjust: inherit\; font-kerning: inherit\; font-feature-settings: inherit\; font-variation-settings: inherit\; font-language-override: inherit\; margin: 0px\; padding: 0px\; vertical-align: baseline\;">Traci Klein -&nbsp\;</span><span style="border: 0px\; font-style: inherit\; font-variant: inherit\; font-weight: inherit\; font-stretch: inherit\; font-size: 15px\; line-height: inherit\; font-family: Raleway\, sans-serif\; font-optical-sizing: inherit\; font-size-adjust: inherit\; font-kerning: inherit\; font-feature-settings: inherit\; font-variation-settings: inherit\; font-language-override: inherit\; margin: 0px\; padding: 0px\; vertical-align: baseline\;">Membership Engagement Coordinator</span><br style="box-sizing: border-box\; font-family: Raleway\, sans-serif\; font-size: 16px\; background-color: rgb(243\, 243\, 243)\;" />\n<font color="#ff0000"><a data-linkindex="3" href="mailto:membership@dsmwestside.org" style="border: 0px\; font-style: inherit\; font-variant: inherit\; font-weight: inherit\; font-stretch: inherit\; font-size: 16px\; line-height: inherit\; font-family: Raleway\, sans-serif\; font-optical-sizing: inherit\; font-size-adjust: inherit\; font-kerning: inherit\; font-feature-settings: inherit\; font-variation-settings: inherit\; font-language-override: inherit\; margin: 0px\; padding: 0px\; vertical-align: baseline\; box-sizing: border-box\; background-color: rgb(243\, 243\, 243)\; text-decoration-line: none\;" title="mailto:membership@dsmwestside.org">membership@dsmwestside.org</a></font></div>\n\n<div class="x_gmail_default" color:="" font-feature-settings:="" font-kerning:="" font-optical-sizing:="" font-size-adjust:="" font-variation-settings:="" helvetica="" margin:="" padding:="" segoe="" style="border: 0px\; font-variant-numeric: inherit\; font-variant-east-asian: inherit\; font-variant-alternates: inherit\; font-variant-position: inherit\; font-variant-emoji: inherit\; font-stretch: inherit\; font-size: 15px\; line-height: inherit\; font-family: " ui="" vertical-align:="" web="" west="">\n<p dir="ltr" role="presentation" style="list-style-type: lower-alpha\; background-color: transparent !important\; font-variant-numeric: normal\; font-variant-east-asian: normal\; font-variant-alternates: normal\; vertical-align: baseline\; white-space: pre\;line-height: 1.8\; text-align: justify\; margin-top: 0pt\; margin-bottom: 0pt\;">&nbsp\;</p>\n</div>\n</div>\n
LOCATION:Waveland Golf Course 4908 University Ave Des Moines\, IA 50311
UID:e.1726.3632
SEQUENCE:3
DTSTAMP:20260421T025051Z
URL:https://business.desmoineswestsidechamber.org/events/details/west-side-golf-open-2026-3632
END:VEVENT

END:VCALENDAR
