BEGIN:VCALENDAR
VERSION:2.0
PRODID:-//ChamberMaster//Event Calendar 2.0//EN
METHOD:PUBLISH
X-PUBLISHED-TTL:P3D
REFRESH-INTERVAL:P3D
CALSCALE:GREGORIAN
BEGIN:VEVENT
DTSTART:20260212T220000Z
DTEND:20260212T230000Z
X-MICROSOFT-CDO-ALLDAYEVENT:FALSE
SUMMARY:Trixies Salon & Spa: Beyond Our Boundary\, The Urbandale Chamber with the DSM West Side Chamber
DESCRIPTION:The DSM West Side Chamber of Commerce\, in partnership with the Urbandale Chamber of Commerce\, proudly presents Beyond Our Boundary a dynamic opportunity designed to foster connections well beyond traditional geographic lines.\n\n\n\nMembership status? It doesn't matter!\n\nOpen to all who would like to network!\n\n\n\nPlease Register
X-ALT-DESC;FMTTYPE=text/html:<p data-end="370" data-start="137">The <strong data-end="174" data-start="141">DSM West Side Chamber of Commerce</strong>\, in partnership with the <strong data-end="233" data-start="200">Urbandale Chamber of Commerce</strong>\, proudly presents <strong data-end="275" data-start="252">Beyond Our Boundary</strong>&mdash\;a dynamic opportunity designed to foster connections well beyond traditional geographic lines.<br />\n<br data-end="929" data-start="926" />\n<strong data-end="970" data-start="929">Membership status? It doesn&rsquo\;t matter!</strong></p>\n\n<p data-end="1241" data-is-last-node="" data-is-only-node="" data-start="972">Open to all who would like to network!<br />\n<br />\n<a href="https://uniquelyurbandale.chambermaster.com/eventregistration/register/17593">Please Register</a></p>\n
LOCATION:Trixies Salon & Spa 4118 University Ave. Des Moines\, IA 50311
UID:e.1726.3623
SEQUENCE:3
DTSTAMP:20260420T204124Z
URL:https://business.desmoineswestsidechamber.org/events/details/trixies-salon-spa-beyond-our-boundary-the-urbandale-chamber-with-the-dsm-west-side-chamber-3623
END:VEVENT

END:VCALENDAR
