BEGIN:VCALENDAR
VERSION:2.0
PRODID:-//ChamberMaster//Event Calendar 2.0//EN
METHOD:PUBLISH
X-PUBLISHED-TTL:P3D
REFRESH-INTERVAL:P3D
CALSCALE:GREGORIAN
BEGIN:VEVENT
DTSTART:20250627T210000Z
DTEND:20250628T000000Z
X-MICROSOFT-CDO-ALLDAYEVENT:FALSE
SUMMARY:Open House & Ribbon Cutting: Iowa Veterinary Specialties
DESCRIPTION:You're Invited!  \n\nJoin us as Iowa Veterinary Specialties celebrates the expansion of our hospital with a Ribbon Cutting Event!     and Open House\n\n  Date: June 27th 2025\n\n  Time: 4:00 PM ? 7:00 PM (Ribbon Cutting & Announcements at 5:30 PM)\n\n  Location: Iowa Veterinary Specialties\n\nEnjoy a fun-filled evening with:\n\n  Free Food ? Hamburgers & Hotdogs\n\n  Happy Hour Drinks\n\n  Games & Prizes\n\n  Exclusive Tours of Our Expanded Facility\n\nBring your friends\, family\, and colleagues for an unforgettable celebration!   We can?t wait to see you there!
X-ALT-DESC;FMTTYPE=text/html:<p class="x_MsoNormal" style="caret-color: rgb(36\, 36\, 36)\; color: rgb(36\, 36\, 36)\; font-family: &quot\;Segoe UI&quot\;\, &quot\;Segoe UI Web (West European)&quot\;\, -apple-system\, BlinkMacSystemFont\, Roboto\, &quot\;Helvetica Neue&quot\;\, sans-serif\; font-size: 15px\;"><span data-olk-copy-source="MessageBody" style="border: 0px\; font-style: inherit\; font-variant-caps: inherit\; font-stretch: inherit\; font-size: inherit\; line-height: inherit\; font-family: &quot\;Segoe UI Emoji&quot\;\, sans-serif\, serif\, EmojiFont\; font-size-adjust: inherit\; font-kerning: inherit\; font-variant-alternates: inherit\; font-variant-ligatures: inherit\; font-variant-numeric: inherit\; font-variant-east-asian: inherit\; font-variant-position: inherit\; font-feature-settings: inherit\; font-optical-sizing: inherit\; font-variation-settings: inherit\; margin: 0px\; padding: 0px\; vertical-align: baseline\;">&#128226\;</span>&nbsp\;<b>You&#39\;re Invited!</b>&nbsp\;<span style="border: 0px\; font-style: inherit\; font-variant-caps: inherit\; font-stretch: inherit\; font-size: inherit\; line-height: inherit\; font-family: &quot\;Segoe UI Emoji&quot\;\, sans-serif\, serif\, EmojiFont\; font-size-adjust: inherit\; font-kerning: inherit\; font-variant-alternates: inherit\; font-variant-ligatures: inherit\; font-variant-numeric: inherit\; font-variant-east-asian: inherit\; font-variant-position: inherit\; font-feature-settings: inherit\; font-optical-sizing: inherit\; font-variation-settings: inherit\; margin: 0px\; padding: 0px\; vertical-align: baseline\;">&#127881\;</span></p>\n\n<p class="x_MsoNormal" style="caret-color: rgb(36\, 36\, 36)\; color: rgb(36\, 36\, 36)\; font-family: &quot\;Segoe UI&quot\;\, &quot\;Segoe UI Web (West European)&quot\;\, -apple-system\, BlinkMacSystemFont\, Roboto\, &quot\;Helvetica Neue&quot\;\, sans-serif\; font-size: 15px\;">Join us as&nbsp\;<b>Iowa Veterinary Specialties</b>&nbsp\;celebrates the expansion of our hospital with a&nbsp\;<b>Ribbon Cutting Event!</b>&nbsp\;<span style="border: 0px\; font-style: inherit\; font-variant-caps: inherit\; font-stretch: inherit\; font-size: inherit\; line-height: inherit\; font-family: &quot\;Segoe UI Emoji&quot\;\, sans-serif\, serif\, EmojiFont\; font-size-adjust: inherit\; font-kerning: inherit\; font-variant-alternates: inherit\; font-variant-ligatures: inherit\; font-variant-numeric: inherit\; font-variant-east-asian: inherit\; font-variant-position: inherit\; font-feature-settings: inherit\; font-optical-sizing: inherit\; font-variation-settings: inherit\; margin: 0px\; padding: 0px\; vertical-align: baseline\;">&#127973\;&#9986\;&#65039\;&nbsp\;and&nbsp\;<b>Open House</b></span></p>\n\n<p class="x_MsoNormal" style="caret-color: rgb(36\, 36\, 36)\; color: rgb(36\, 36\, 36)\; font-family: &quot\;Segoe UI&quot\;\, &quot\;Segoe UI Web (West European)&quot\;\, -apple-system\, BlinkMacSystemFont\, Roboto\, &quot\;Helvetica Neue&quot\;\, sans-serif\; font-size: 15px\;"><span style="border: 0px\; font-style: inherit\; font-variant-caps: inherit\; font-stretch: inherit\; font-size: inherit\; line-height: inherit\; font-family: &quot\;Segoe UI Emoji&quot\;\, sans-serif\, serif\, EmojiFont\; font-size-adjust: inherit\; font-kerning: inherit\; font-variant-alternates: inherit\; font-variant-ligatures: inherit\; font-variant-numeric: inherit\; font-variant-east-asian: inherit\; font-variant-position: inherit\; font-feature-settings: inherit\; font-optical-sizing: inherit\; font-variation-settings: inherit\; margin: 0px\; padding: 0px\; vertical-align: baseline\;">&#128197\;</span>&nbsp\;<b>Date:</b>&nbsp\;June 27<sup>th</sup>&nbsp\;2025<br />\n<span style="border: 0px\; font-style: inherit\; font-variant-caps: inherit\; font-stretch: inherit\; font-size: inherit\; line-height: inherit\; font-family: &quot\;Segoe UI Emoji&quot\;\, sans-serif\, serif\, EmojiFont\; font-size-adjust: inherit\; font-kerning: inherit\; font-variant-alternates: inherit\; font-variant-ligatures: inherit\; font-variant-numeric: inherit\; font-variant-east-asian: inherit\; font-variant-position: inherit\; font-feature-settings: inherit\; font-optical-sizing: inherit\; font-variation-settings: inherit\; margin: 0px\; padding: 0px\; vertical-align: baseline\;">&#9200\;</span>&nbsp\;<b>Time:</b>&nbsp\;4:00 PM ? 7:00 PM (Ribbon Cutting &amp\; Announcements at 5:30 PM)<br />\n<span style="border: 0px\; font-style: inherit\; font-variant-caps: inherit\; font-stretch: inherit\; font-size: inherit\; line-height: inherit\; font-family: &quot\;Segoe UI Emoji&quot\;\, sans-serif\, serif\, EmojiFont\; font-size-adjust: inherit\; font-kerning: inherit\; font-variant-alternates: inherit\; font-variant-ligatures: inherit\; font-variant-numeric: inherit\; font-variant-east-asian: inherit\; font-variant-position: inherit\; font-feature-settings: inherit\; font-optical-sizing: inherit\; font-variation-settings: inherit\; margin: 0px\; padding: 0px\; vertical-align: baseline\;">&#128205\;</span>&nbsp\;<b>Location:</b>&nbsp\;Iowa Veterinary Specialties</p>\n\n<p class="x_MsoNormal" style="caret-color: rgb(36\, 36\, 36)\; color: rgb(36\, 36\, 36)\; font-family: &quot\;Segoe UI&quot\;\, &quot\;Segoe UI Web (West European)&quot\;\, -apple-system\, BlinkMacSystemFont\, Roboto\, &quot\;Helvetica Neue&quot\;\, sans-serif\; font-size: 15px\;">Enjoy a fun-filled evening with:<br />\n<span style="border: 0px\; font-style: inherit\; font-variant-caps: inherit\; font-stretch: inherit\; font-size: inherit\; line-height: inherit\; font-family: &quot\;Segoe UI Emoji&quot\;\, sans-serif\, serif\, EmojiFont\; font-size-adjust: inherit\; font-kerning: inherit\; font-variant-alternates: inherit\; font-variant-ligatures: inherit\; font-variant-numeric: inherit\; font-variant-east-asian: inherit\; font-variant-position: inherit\; font-feature-settings: inherit\; font-optical-sizing: inherit\; font-variation-settings: inherit\; margin: 0px\; padding: 0px\; vertical-align: baseline\;">&#127828\;</span>&nbsp\;<b>Free Food</b>&nbsp\;? Hamburgers &amp\; Hotdogs<br />\n<span style="border: 0px\; font-style: inherit\; font-variant-caps: inherit\; font-stretch: inherit\; font-size: inherit\; line-height: inherit\; font-family: &quot\;Segoe UI Emoji&quot\;\, sans-serif\, serif\, EmojiFont\; font-size-adjust: inherit\; font-kerning: inherit\; font-variant-alternates: inherit\; font-variant-ligatures: inherit\; font-variant-numeric: inherit\; font-variant-east-asian: inherit\; font-variant-position: inherit\; font-feature-settings: inherit\; font-optical-sizing: inherit\; font-variation-settings: inherit\; margin: 0px\; padding: 0px\; vertical-align: baseline\;">&#127865\;</span>&nbsp\;<b>Happy Hour Drinks</b><br />\n<span style="border: 0px\; font-style: inherit\; font-variant-caps: inherit\; font-stretch: inherit\; font-size: inherit\; line-height: inherit\; font-family: &quot\;Segoe UI Emoji&quot\;\, sans-serif\, serif\, EmojiFont\; font-size-adjust: inherit\; font-kerning: inherit\; font-variant-alternates: inherit\; font-variant-ligatures: inherit\; font-variant-numeric: inherit\; font-variant-east-asian: inherit\; font-variant-position: inherit\; font-feature-settings: inherit\; font-optical-sizing: inherit\; font-variation-settings: inherit\; margin: 0px\; padding: 0px\; vertical-align: baseline\;">&#127919\;</span>&nbsp\;<b>Games &amp\; Prizes</b><br />\n<span style="border: 0px\; font-style: inherit\; font-variant-caps: inherit\; font-stretch: inherit\; font-size: inherit\; line-height: inherit\; font-family: &quot\;Segoe UI Emoji&quot\;\, sans-serif\, serif\, EmojiFont\; font-size-adjust: inherit\; font-kerning: inherit\; font-variant-alternates: inherit\; font-variant-ligatures: inherit\; font-variant-numeric: inherit\; font-variant-east-asian: inherit\; font-variant-position: inherit\; font-feature-settings: inherit\; font-optical-sizing: inherit\; font-variation-settings: inherit\; margin: 0px\; padding: 0px\; vertical-align: baseline\;">&#128062\;</span>&nbsp\;<b>Exclusive Tours of Our Expanded Facility</b></p>\n\n<p class="x_MsoNormal" style="caret-color: rgb(36\, 36\, 36)\; color: rgb(36\, 36\, 36)\; font-family: &quot\;Segoe UI&quot\;\, &quot\;Segoe UI Web (West European)&quot\;\, -apple-system\, BlinkMacSystemFont\, Roboto\, &quot\;Helvetica Neue&quot\;\, sans-serif\; font-size: 15px\;">Bring your friends\, family\, and colleagues for an unforgettable celebration!&nbsp\;<span style="border: 0px\; font-style: inherit\; font-variant-caps: inherit\; font-stretch: inherit\; font-size: inherit\; line-height: inherit\; font-family: &quot\;Segoe UI Emoji&quot\;\, sans-serif\, serif\, EmojiFont\; font-size-adjust: inherit\; font-kerning: inherit\; font-variant-alternates: inherit\; font-variant-ligatures: inherit\; font-variant-numeric: inherit\; font-variant-east-asian: inherit\; font-variant-position: inherit\; font-feature-settings: inherit\; font-optical-sizing: inherit\; font-variation-settings: inherit\; margin: 0px\; padding: 0px\; vertical-align: baseline\;">&#127882\;</span>&nbsp\;We can?t wait to see you there!<br />\n&nbsp\;</p>\n
LOCATION:Iowa Veterinary Specialties 6110 Creston Avenue Des Moines\, Iowa 50321
UID:e.1726.3559
SEQUENCE:3
DTSTAMP:20260421T105914Z
URL:https://business.desmoineswestsidechamber.org/events/details/open-house-ribbon-cutting-iowa-veterinary-specialties-3559
END:VEVENT

END:VCALENDAR
