BEGIN:VCALENDAR
VERSION:2.0
PRODID:-//ChamberMaster//Event Calendar 2.0//EN
METHOD:PUBLISH
X-PUBLISHED-TTL:P3D
REFRESH-INTERVAL:P3D
CALSCALE:GREGORIAN
BEGIN:VEVENT
DTSTART:20250206T140000Z
DTEND:20250206T150000Z
X-MICROSOFT-CDO-ALLDAYEVENT:FALSE
SUMMARY:Breakfast Club with the Downtown Chamber: DART
DESCRIPTION:Join the Downtown Chamber for breakfast and networking at DART!
X-ALT-DESC;FMTTYPE=text/html:<br />\nJoin the Downtown Chamber for breakfast and networking at DART!
LOCATION:DART Central Station 620 Cherry St Des Moines\, IA 50309
UID:e.1726.3543
SEQUENCE:3
DTSTAMP:20260421T174724Z
URL:https://business.desmoineswestsidechamber.org/events/details/breakfast-club-with-the-downtown-chamber-dart-02-06-2025-3543
END:VEVENT

END:VCALENDAR
