BEGIN:VCALENDAR
VERSION:2.0
PRODID:-//ChamberMaster//Event Calendar 2.0//EN
METHOD:PUBLISH
X-PUBLISHED-TTL:P3D
REFRESH-INTERVAL:P3D
CALSCALE:GREGORIAN
BEGIN:VEVENT
DTSTART:20250920T150000Z
DTEND:20250920T170000Z
X-MICROSOFT-CDO-ALLDAYEVENT:FALSE
SUMMARY:Beaverdale Fall Festival Parade
DESCRIPTION:Save the date! The Des Moines West Side Chamber is excited to participate in the Beaverdale Fall Festival Parade on Saturday\, September 20 at 10:00 AM\, and we'd love for you and your business to join us.\n\n \n\nAs a Chamber member\, you're invited to walk with the Des Moines West Side Chamber of Commerce\, hand out candy\, and showcase your business to the community. Feel free to bring your own swag to share as well.\n\n \n\nMore details will be coming soon\, but we wanted to make sure you could mark your calendar now. We hope you'll take advantage of this fun opportunity to connect with the community and fellow Chamber members.\n\nRegister to walk with us here.
X-ALT-DESC;FMTTYPE=text/html:<p style="margin: 0px\; padding: 0px\; caret-color: rgb(118\, 118\, 118)\; color: rgb(118\, 118\, 118)\; font-family: &quot\;Open Sans&quot\;\, sans-serif\; font-size: 15px\; white-space-collapse: preserve\;"><span style="font-size: 16px\; color: rgb(0\, 0\, 0)\;">Save the date! The Des Moines West Side Chamber is excited to participate in the Beaverdale&nbsp\;Fall&nbsp\;Festival&nbsp\;Parade on&nbsp\;</span><span style="font-size: 16px\; color: rgb(0\, 0\, 0)\; font-weight: bold\;">Saturday\, September 20 at 10:00 AM</span><span style="font-size: 16px\; color: rgb(0\, 0\, 0)\;">\, and we&rsquo\;d love for you and your business to join us.</span></p>\n\n<p style="margin: 0px\; padding: 0px\; caret-color: rgb(118\, 118\, 118)\; color: rgb(118\, 118\, 118)\; font-family: &quot\;Open Sans&quot\;\, sans-serif\; font-size: 15px\; white-space-collapse: preserve\;">&nbsp\;</p>\n\n<p style="margin: 0px\; padding: 0px\; caret-color: rgb(118\, 118\, 118)\; color: rgb(118\, 118\, 118)\; font-family: &quot\;Open Sans&quot\;\, sans-serif\; font-size: 15px\; white-space-collapse: preserve\;"><span style="font-size: 16px\; color: rgb(0\, 0\, 0)\;">As a Chamber member\, you&rsquo\;re invited to walk with the Des Moines West Side Chamber of Commerce\, hand out candy\, and showcase your business to the community. Feel free to bring your own swag to share as well.</span></p>\n\n<p style="margin: 0px\; padding: 0px\; caret-color: rgb(118\, 118\, 118)\; color: rgb(118\, 118\, 118)\; font-family: &quot\;Open Sans&quot\;\, sans-serif\; font-size: 15px\; white-space-collapse: preserve\;">&nbsp\;</p>\n\n<p style="margin: 0px\; padding: 0px\; caret-color: rgb(118\, 118\, 118)\; color: rgb(118\, 118\, 118)\; font-family: &quot\;Open Sans&quot\;\, sans-serif\; font-size: 15px\; white-space-collapse: preserve\;"><span style="font-size: 16px\; color: rgb(0\, 0\, 0)\;">More details will be coming soon\, but we wanted to make sure you could mark your calendar now. We hope you&rsquo\;ll take advantage of this fun opportunity to connect with the community and fellow Chamber members.<br />\nRegister to walk with us </span><span style="font-size: 16px\;"><a href="https://docs.google.com/forms/d/e/1FAIpQLSeZl1s_f8MrsprEuOjGv8m086cpC1PNnEoXPYIvCcIlg2xG5w/viewform?usp=header"><span style="color:#FF0000\;">here</span></a><span style="color:#FF0000\;">.</span></span></p>\n
LOCATION:Downtown Beaverdale 2805 Beaver Ave Des Moines\, IA 50310
UID:e.1726.3593
SEQUENCE:3
DTSTAMP:20260421T042826Z
URL:https://business.desmoineswestsidechamber.org/events/details/beaverdale-fall-festival-parade-3593
END:VEVENT

END:VCALENDAR
