BEGIN:VCALENDAR
VERSION:2.0
PRODID:-//ChamberMaster//Event Calendar 2.0//EN
METHOD:PUBLISH
X-PUBLISHED-TTL:P3D
REFRESH-INTERVAL:P3D
CALSCALE:GREGORIAN
BEGIN:VEVENT
DTSTART:20250626T213000Z
DTEND:20250626T233000Z
X-MICROSOFT-CDO-ALLDAYEVENT:FALSE
SUMMARY:Anniversary Open House at Capital Health
DESCRIPTION:We are celebrating 12 years and launching two new incredible MedSpa services: SKINPEN and NOUVADERM laser skin resurfacing. Join us for a party!\n\n\n\n- Enjoy Lite Bites + Seasonal Mocktails\n\n- Giveaways\, Clinic Tours + Music\n\n- Product Vendors + Specials\n\n- And Meet Our Team!\n\n\n\nAll are welcome - bring a friend!
X-ALT-DESC;FMTTYPE=text/html:We are celebrating 12 years and launching two new incredible MedSpa services: SKINPEN and NOUVADERM laser skin resurfacing. Join us for a party!<br />\n<br />\n- Enjoy Lite Bites + Seasonal Mocktails<br />\n- Giveaways\, Clinic Tours + Music<br />\n- Product Vendors + Specials<br />\n- And Meet Our Team!<br />\n<br />\nAll are welcome - bring a friend!
LOCATION:900 42nd St Des Moines\, IA 50312
UID:e.1726.3578
SEQUENCE:3
DTSTAMP:20260421T105900Z
URL:https://business.desmoineswestsidechamber.org/events/details/anniversary-open-house-at-capital-health-3578
END:VEVENT

END:VCALENDAR
