BEGIN:VCALENDAR
VERSION:2.0
PRODID:-//ChamberMaster//Event Calendar 2.0//EN
METHOD:PUBLISH
X-PUBLISHED-TTL:P3D
REFRESH-INTERVAL:P3D
CALSCALE:GREGORIAN
BEGIN:VEVENT
DTSTART:20250624T213000Z
DTEND:20250625T013000Z
X-MICROSOFT-CDO-ALLDAYEVENT:FALSE
SUMMARY:2025 Chamber Night with the Iowa Cubs
DESCRIPTION:The Greater Des Moines Partnership and The Des Moines West Side Chamber are excited to invite you to a fun-filled evening for the annual Chamber Night with the Iowa Cubs! Join us on Tuesday\, June 24\, for a pre-game tailgate and an Iowa Cubs baseball game at Principal Park. \n\n  \n\nThe tailgate will kick off at 4:30 p.m. in the southwest corner of the north parking lot at Principal Park. This is a great opportunity to network with fellow Chamber members while enjoying a tailgate meal on a first come\, first served basis. The Iowa Cubs game will start at 6:38 p.m. Seating is general admission. \n\n  \n\nWe look forward to seeing you there and having a great time together. Please bring your fellow staff\, families and Chamber Members along for an evening of building relationships and baseball fun!\n\n\n\n(BUTTON LINK TO EVENT)
X-ALT-DESC;FMTTYPE=text/html:<span style="color:#000000\;"><span style="font-size:14px\;"><span style="font-family:arial\,sans-serif\;">The Greater Des Moines Partnership and The </span></span><span style="font-family: arial\, sans-serif\; font-size: 14px\;">Des Moines West Side Chamber</span><span style="font-size:14px\;"><span style="font-family:arial\,sans-serif\;">&nbsp\;are excited to invite you to a fun-filled evening for the annual Chamber Night with the Iowa Cubs! Join us on Tuesday\, June 24\, for a pre-game tailgate and an Iowa Cubs baseball game at Principal Park.&nbsp\;</span><br />\n&nbsp\;&nbsp\;<br />\n<span style="font-family:arial\,sans-serif\;">The tailgate will kick off at 4:30 p.m. in the southwest corner of the north parking lot at Principal Park. This is a great opportunity to network with fellow Chamber members while enjoying a tailgate meal on a first come\, first served basis. The Iowa Cubs game will start at 6:38 p.m. Seating is general admission.&nbsp\;</span><br />\n&nbsp\;&nbsp\;<br />\n<span style="font-family:arial\,sans-serif\;">We look forward to seeing you there and having a great time together. Please bring your fellow staff\, families and Chamber Members along for an evening of building relationships and baseball fun!<br />\n<br />\n<a href="https://members.dsmpartnership.com/events/details/2025-chamber-night-with-the-iowa-cubs-06-24-2025-61997">(BUTTON LINK TO EVENT)</a></span></span></span><br />\n&nbsp\;
LOCATION:Principal Park 1 Line Dr Des Moines\, IA 50309
UID:e.1726.3577
SEQUENCE:3
DTSTAMP:20260421T105736Z
URL:https://business.desmoineswestsidechamber.org/events/details/2025-chamber-night-with-the-iowa-cubs-3577
END:VEVENT

END:VCALENDAR
